Back to Multiple platform build/check report
| Package: OLIN |
| Version: 1.8.0 |
| Command: D:\biocbld\R-2.3.0\bin\R.exe CMD build OLIN |
| RetCode: 0 |
| Time: 8.5 seconds |
| Status: OK |
| PackageFile: OLIN_1.8.0.tar.gz |
* checking for file 'OLIN/DESCRIPTION' ... OK * preparing 'OLIN': * checking DESCRIPTION meta-information ... OK * checking whether 'INDEX' is up-to-date ... NO * use '--force' to overwrite the existing 'INDEX' * removing junk files * checking for LF line-endings in source files * checking for empty or unneeded directories * building 'OLIN_1.8.0.tar.gz'