Back to Multiple platform build/check report
| Package: geneRecommender | 
| Version: 1.4.0 | 
| Command: /home/biocbuild/R-2.3.0/bin/R CMD build geneRecommender | 
| RetCode: 0 | 
| Time: 5.3 seconds | 
| Status: OK | 
| PackageFile: geneRecommender_1.4.0.tar.gz | 
* checking for file 'geneRecommender/DESCRIPTION' ... OK
* preparing 'geneRecommender':
* checking DESCRIPTION meta-information ... OK
* installing the package to re-build vignettes
* Installing *source* package 'geneRecommender' ...
** R
** inst
** help
 >>> Building/Updating help pages for package 'geneRecommender'
     Formats: text html latex example 
  gr.cv                             text    html    latex   example
  gr.main                           text    html    latex   example
  gr.normalize                      text    html    latex   example
** building package indices ...
* DONE (geneRecommender)
* creating vignettes ... OK
* removing junk files
* checking for LF line-endings in source files
* checking for empty or unneeded directories
* building 'geneRecommender_1.4.0.tar.gz'