Back to Multiple platform build/check report
| Package: LPE | 
| Version: 1.6.0 | 
| Command: /home/biocbuild/R-2.3.0/bin/R CMD check LPE_1.6.0.tar.gz | 
| RetCode: 0 | 
| Time: 54.8 seconds | 
| Status: OK | 
| CheckDir: LPE.Rcheck | 
| Warnings: 0 | 
* checking for working latex ... OK * using log directory '/home/biocbuild/1.8d/madman/Rpacks/LPE.Rcheck' * using Version 2.3.0 (2006-04-24) * checking for file 'LPE/DESCRIPTION' ... OK * this is package 'LPE' version '1.6.0' * checking package dependencies ... OK * checking if this is a source package ... OK * checking whether package 'LPE' can be installed ... OK * checking package directory ... OK * checking for portable file names ... OK * checking for sufficient/correct file permissions ... OK * checking DESCRIPTION meta-information ... OK * checking top-level files ... OK * checking index information ... OK * checking package subdirectories ... OK * checking R files for syntax errors ... OK * checking R files for library.dynam ... OK * checking S3 generic/method consistency ... OK * checking replacement functions ... OK * checking foreign function calls ... OK * checking Rd files ... OK * checking for missing documentation entries ... OK * checking for code/documentation mismatches ... OK * checking Rd \usage sections ... OK * creating LPE-Ex.R ... OK * checking examples ... OK * checking package vignettes in 'inst/doc' ... OK * creating LPE-manual.tex ... OK * checking LPE-manual.tex ... OK