Back to Multiple platform build/check report
| Package: SNAData | 
| Version: 1.6.0 | 
| Command: /home/biocbuild/arch/sparc/R-2.3.0/bin/R CMD build SNAData | 
| RetCode: 0 | 
| Time: 24.8 seconds | 
| Status: OK | 
| PackageFile: SNAData_1.6.0.tar.gz | 
* checking for file 'SNAData/DESCRIPTION' ... OK
* preparing 'SNAData':
* checking DESCRIPTION meta-information ... OK
* checking whether 'INDEX' is up-to-date ... NO
* use '--force' to overwrite the existing 'INDEX'
* installing the package to re-build vignettes
* Installing *source* package 'SNAData' ...
** R
** data
** inst
** help
 >>> Building/Updating help pages for package 'SNAData'
     Formats: text html latex example 
  CEOclubs                          text    html    latex   example
  Countries                         text    html    latex   example
  Florentine                        text    html    latex   example
  Freeman                           text    html    latex   example
  Krackhardt                        text    html    latex   example
** building package indices ...
* DONE (SNAData)
* creating vignettes ... OK
* removing junk files
* checking for LF line-endings in source files
* checking for empty or unneeded directories
* building 'SNAData_1.6.0.tar.gz'