Back to Multiple platform build/check report
| Package: MeasurementError.cor | 
| Version: 1.4.0 | 
| Command: /home/biocbuild/arch/sparc/R-2.3.0/bin/R CMD check MeasurementError.cor_1.4.0.tar.gz | 
| RetCode: 0 | 
| Time: 116.6 seconds | 
| Status: OK | 
| CheckDir: MeasurementError.cor.Rcheck | 
| Warnings: 0 | 
* checking for working latex ... OK * using log directory '/loc/biocbuild/1.8d/madman/Rpacks/MeasurementError.cor.Rcheck' * using Version 2.3.0 (2006-04-24) * checking for file 'MeasurementError.cor/DESCRIPTION' ... OK * this is package 'MeasurementError.cor' version '1.4.0' * checking package dependencies ... OK * checking if this is a source package ... OK * checking whether package 'MeasurementError.cor' can be installed ... OK * checking package directory ... OK * checking for portable file names ... OK * checking for sufficient/correct file permissions ... OK * checking DESCRIPTION meta-information ... OK * checking top-level files ... OK * checking index information ... OK * checking package subdirectories ... OK * checking R files for syntax errors ... OK * checking R files for library.dynam ... OK * checking S3 generic/method consistency ... OK * checking replacement functions ... OK * checking foreign function calls ... OK * checking Rd files ... OK * checking for missing documentation entries ... OK * checking for code/documentation mismatches ... OK * checking Rd \usage sections ... OK * creating MeasurementError.cor-Ex.R ... OK * checking examples ... OK * checking package vignettes in 'inst/doc' ... OK * creating MeasurementError.cor-manual.tex ... OK * checking MeasurementError.cor-manual.tex ... OK