Back to the "Multiple platform build/check report"
Version Built
acepack 1.3-2.2 2.3.1
aCGH 1.6.0 2.3.1
ade4 1.4-1 2.3.1
adSplit 1.2.0 2.3.1
affxparser 1.4.1 2.3.1
affy 1.10.0 2.3.1
affycomp 1.8.0 2.3.1
affycoretools 1.4.0 2.3.1
affydata 1.8.0 2.3.1
affyio 1.0.0 2.3.1
affylmGUI 1.6.0 2.3.1
affypdnn 1.6.0 2.3.1
affyPLM 1.8.0 2.3.1
affyQCReport 1.10.0 2.3.1
akima 0.5-1 2.3.1
ALL 1.2.1 2.3.1
altcdfenvs 1.6.0 2.3.1
annaffy 1.4.1 2.3.1
AnnBuilder 1.10.5 2.3.1
annotate 1.10.0 2.3.1
apComplex 1.6.0 2.3.1
ape 1.8-4 2.3.1
applera 1.2.0 2.3.1
arrayMagic 1.10.0 2.3.1
arrayQuality 1.8.0 2.3.1
base 2.3.1 2.3.1
beadarray 1.0.0 2.3.1
bim 1.4.0 2.3.1
Biobase 1.10.1 2.3.1
biocViews 1.0.0 2.3.1
bioDist 1.4.0 2.3.1
biomaRt 1.6.3 2.3.1
Biostrings 2.0.3 2.3.1
boot 1.2-25 2.3.1
bridge 1.4.0 2.3.1
car 1.1-1 2.3.1
Category 1.4.1 2.3.1
cclust 0.6-12 2.3.1
CelegansGenome.ce2 0.99.1 2.3.1
cellHTS 1.2.0 2.3.1
cghMCR 1.2.0 2.3.1
ChromoViz 1.4.0 2.3.1
chron 2.3-6 2.3.1
class 7.2-27.1 2.3.1
cluster 1.11.1 2.3.1
clusterStab 1.4.0 2.3.1
cMAP 1.12.0 2.3.1
CoCiteStats 1.4.1 2.3.1
coda 0.10-6 2.3.1
codelink 1.0.0 2.3.1
colonCA 1.2.1 2.3.1
colorspace 0.9 2.3.1
combinat 0.0-6 2.3.1
convert 1.6.0 2.3.1
copa 1.0.1 2.3.1
corpcor 1.4.3 2.3.1
ctc 1.6.0 2.3.1
DAAG 0.84 2.3.1
daMA 1.4.0 2.3.1
datasets 2.3.1 2.3.1
DBI 0.1-10 2.3.1
DEDS 1.4.0 2.3.1
diffGeneAnalysis 1.14.0 2.3.1
digest 0.2.2 2.3.1
DNAcopy 1.6.0 2.3.1
DynDoc 1.10.0 2.3.1
dynlm 0.1-2 2.3.1
e1071 1.5-13 2.3.1
EBarrays 1.4.0 2.3.1
EBImage 1.2.2 2.3.1
Ecdat 0.1-4 2.3.1
ecolicdf 1.12.0 2.3.1
ecoliLeucine 1.0.0 2.3.1
ecolitk 1.4.0 2.3.1
edd 1.10.1 2.3.1
EMV 1.3.1 2.3.1
exprExternal 1.4.0 2.3.1
externalVector 1.4.0 2.3.1
faahKO 1.0 2.3.1
factDesign 1.6.0 2.3.1
fBasics 221.10065 2.3.1
fCalendar 221.10065 2.3.1
fdrame 1.4.0 2.3.1
fibroEset 1.2.1 2.3.1
fields 3.04 2.3.1
foreign 0.8-15 2.3.1
gam 0.97 2.3.1
gbm 1.5-7 2.3.1
gcrma 2.4.1 2.3.1
gdata 2.2.0 2.3.1
gee 4.13-10 2.3.1
genArise 1.8.0 2.3.1
genefilter 1.10.1 2.3.1
GeneMeta 1.4.0 2.3.1
geneplotter 1.10.0 2.3.1
GeneR 2.2.1 2.3.1
geneRecommender 1.4.0 2.3.1
GeneSpring 2.4.0 2.3.1
GeneTraffic 1.4.0 2.3.1
GeneTS 2.12.0 2.3.1
GenomeBase 1.0.0 2.3.1
GEOquery 1.7.2 2.3.1
gff3Plotter 1.6.0 2.3.1
GLAD 1.6.0 2.3.1
GlobalAncova 2.2.0 2.3.1
globaltest 4.2.0 2.3.1
GO 1.12.0 2.3.1
goCluster 1.6.0 2.3.1
golubEsets 1.2.4 2.3.1
GOstats 1.6.0 2.3.1
goTools 1.4.0 2.3.1
gpls 1.4.0 2.3.1
graph 1.10.6 2.3.1
GraphAT 1.4.0 2.3.1
graphics 2.3.1 2.3.1
grDevices 2.3.1 2.3.1
grid 2.3.1 2.3.1
gridBase 0.4-3 2.3.1
gtkDevice 1.9-4 2.3.1
gtools 2.2.3 2.3.1
Heatplus 1.2.0 2.3.1
HEM 1.4.0 2.3.1
hexbin 1.6.0 2.3.1
hgfocus 1.12.0 2.3.1
hgfocuscdf 1.12.0 2.3.1
hgu133a 1.12.0 2.3.1
hgu133acdf 1.12.0 2.3.1
hgu133aprobe 1.12.0 2.3.1
hgu95acdf 1.12.0 2.3.1
hgu95av2 1.12.0 2.3.1
hgu95av2cdf 1.12.0 2.3.1
hgu95av2probe 1.12.0 2.3.1
Hmisc 3.0-12 2.3.1
hopach 1.6.0 2.3.1
hsahomology 1.12.0 2.3.1
hu6800 1.12.0 2.3.1
hu6800cdf 1.12.0 2.3.1
hu6800probe 1.12.0 2.3.1
humanLLMappings 1.12.0 2.3.1
hypergraph 1.4.0 2.3.1
Icens 1.4.0 2.3.1
idiogram 1.6.0 2.3.1
impute 1.4.0 2.3.1
ipred 0.8-3 2.3.1
iSPlot 1.6.0 2.3.1
its 1.1.1 2.3.1
Iyer517 1.2.0 2.3.1
KEGG 1.12.0 2.3.1
KEGGSOAP 1.6.0 2.3.1
KernSmooth 2.22-17 2.3.1
lattice 0.13-10 2.3.1
leaps 2.7 2.3.1
limma 2.7.10 2.3.1
limmaGUI 1.8.0 2.3.1
LMGene 1.0.0 2.3.1
lmtest 0.9-18 2.3.1
locfdr 1.1-2 2.3.1
locfit 1.5-3 2.3.1
logicFS 1.2.0 2.3.1
LogicReg 1.4.1 2.3.1
longitudinal 1.1.3 2.3.1
LPE 1.6.0 2.3.1
maanova 1.2.1 2.3.1
macat 1.6.0 2.3.1
maCorrPlot 1.2.0 2.3.1
maDB 1.4.0 2.3.1
made4 1.6.0 2.3.1
makecdfenv 1.10.0 2.3.1
MANOR 1.4.0 2.3.1
MantelCorr 1.2.0 2.3.1
maptools 0.5-14 2.3.1
marray 1.10.0 2.3.1
maSigPro 1.4.0 2.3.1
MASS 7.2-27.1 2.3.1
matchprobes 1.4.0 2.3.1
mclust 2.1-12 2.3.1
MCMCpack 0.7-2 2.3.1
MCRestimate 1.6.0 2.3.1
mda 0.3-1 2.3.1
MeasurementError.cor 1.4.0 2.3.1
MergeMaid 2.4.0 2.3.1
metaArray 1.4.4 2.3.1
methods 2.3.1 2.3.1
Mfuzz 1.0.0 2.3.1
mgcv 1.3-18 2.3.1
minpack.lm 1.0-5 2.3.1
MiPP 1.4.0 2.3.1
mlbench 1.1-1 2.3.1
MLInterfaces 1.4.0 2.3.1
mmgmos 1.4.0 2.3.1
multtest 1.10.2 2.3.1
MVCClass 1.6.0 2.3.1
mvtnorm 0.7-3 2.3.1
nlme 3.1-75 2.3.1
nnet 7.2-27.1 2.3.1
nnNorm 1.8.1 2.3.1
nudge 1.2.0 2.3.1
OCplus 1.6.0 2.3.1
odesolve 0.5-16 2.3.1
OLIN 1.8.0 2.3.1
OLINgui 1.6.0 2.3.1
ontoTools 1.8.0 2.3.1
OrderedList 1.4.0 2.3.1
oz 1.0-13 2.3.1
pairseqsim 1.6.0 2.3.1
pamr 1.30.0 2.3.1
panp 1.2.0 2.3.1
pathRender 1.0.0 2.3.1
pdmclass 1.4.1 2.3.1
pgUtils 1.4.0 2.3.1
pickgene 1.4.0 2.3.1
pixmap 0.4-4 2.3.1
plasmodiumanophelescdf 1.12.0 2.3.1
plgem 1.4.0 2.3.1
plier 1.4.0 2.3.1
prada 1.8.0 2.3.1
PROcess 1.8.0 2.3.1
qtl 1.03-14 2.3.1
quadprog 1.4-8 2.3.1
qvalue 1.6.0 2.3.1
R2HTML 1.57 2.3.1
rae230a 1.12.0 2.3.1
rae230aprobe 1.12.0 2.3.1
rama 1.4.0 2.3.1
randomForest 4.5-16 2.3.1
RankProd 2.4.0 2.3.1
RBGL 1.8.1 2.3.1
RColorBrewer 0.2-3 2.3.1
RCurl 0.6-2 2.3.1
Rdbi 1.6.0 2.3.1
RdbiPgSQL 1.6.1 2.3.1
reb 1.4.0 2.3.1
reposTools 1.10.0 2.3.1
Resourcerer 1.6.0 2.3.1
rfcdmin 1.4.0 2.3.1
rflowcyt 1.4.0 2.3.1
Rgraphviz 1.10.0 2.3.1
RGtk 0.7-0 2.3.1
RLMM 0.10.0 2.3.1
RMAGEML 2.6.0 2.3.1
RMAPPER 1.2.0 2.3.1
ROC 1.6.0 2.3.1
R.oo 1.2.0 2.3.1
rpart 3.1-29 2.3.1
rrcov 0.3-03 2.3.1
RSNPper 1.4.0 2.3.1
RSQLite 0.4-1 2.3.1
RSvgDevice 0.6.1 2.3.1
R.utils 0.7.9 2.3.1
Ruuid 1.10.0 2.3.1
safe 1.4.0 2.3.1
SAGElyzer 1.10.0 2.3.1
sagenhaft 1.4.0 2.3.1
sandwich 2.0-0 2.3.1
SBMLR 1.26.0 2.3.1
scatterplot3d 0.3-24 2.3.1
ScISI 1.2.0 2.3.1
sem 0.9-4 2.3.1
siggenes 1.6.0 2.3.1
simpleaffy 2.6.0 2.3.1
simulatorAPMS 1.4.0 2.3.1
sizepower 1.2.0 2.3.1
sma 0.5.15 2.3.1
SNAData 1.6.0 2.3.1
snapCGH 1.0.0 2.3.1
som 0.3-4 2.3.1
sp 0.8-18 2.3.1
SparseM 0.68 2.3.1
spatial 7.2-27.1 2.3.1
spdep 0.3-30 2.3.1
splancs 2.01-17 2.3.1
splicegear 1.4.0 2.3.1
splines 2.3.1 2.3.1
spotSegmentation 1.4.0 2.3.1
sscore 1.4.2 2.3.1
ssize 1.4.0 2.3.1
SSOAP 0.3-0 2.3.1
stam 1.4.0 2.3.1
statmod 1.2.4 2.3.1
stats 2.3.1 2.3.1
stats4 2.3.1 2.3.1
stepNorm 1.4.0 2.3.1
strucchange 1.3-0 2.3.1
survival 2.28 2.3.1
systemfit 0.8-0 2.3.1
tcltk 2.3.1 2.3.1
tilingArray 1.10.0 2.3.1
timecourse 1.4.0 2.3.1
tkrplot 0.0-16 2.3.1
tkWidgets 1.10.0 2.3.1
tools 2.3.1 2.3.1
tripack 1.2-10 2.3.1
tseries 0.10-3 2.3.1
tweedie 1.02 2.3.1
twilight 1.8.0 2.3.1
utils 2.3.1 2.3.1
vsn 1.10.0 2.3.1
waveslim 1.5 2.3.1
webbioc 1.4.0 2.3.1
widgetInvoke 1.4.0 2.3.1
widgetTools 1.8.1 2.3.1
xcms 1.4.0 2.3.1
xgobi 1.2-13 2.3.1
xlahomology 1.12.0 2.3.1
XML 0.99-8 2.3.1
xtable 1.3-2 2.3.1
y2hStat 1.2.0 2.3.1
YEAST 1.12.0 2.3.1
zoo 1.2-0 2.3.1