Package: Rvisdiff Version: 1.4.0 Command: /home/biocbuild/R/R/bin/R CMD check --install=check:Rvisdiff.install-out.txt --library=/home/biocbuild/R/R/site-library --no-vignettes --timings Rvisdiff_1.4.0.tar.gz StartedAt: 2025-04-01 10:15:59 -0000 (Tue, 01 Apr 2025) EndedAt: 2025-04-01 10:18:56 -0000 (Tue, 01 Apr 2025) EllapsedTime: 177.2 seconds RetCode: 0 Status: OK CheckDir: Rvisdiff.Rcheck Warnings: 0